BEGIN:VCALENDAR
VERSION:2.0
CALSCALE:GREGORIAN
PRODID:-//Diputació de Barcelona//DibaCMS//EN
BEGIN:VEVENT
UID:13576
DTSTAMP:20260423T083517
DTSTART:20240413T120000
DTEND:20240413T133000
SUMMARY:Dracs lectors. Kit de lectura
LOCATION:c. de Castelló de la Plana, 11 08186   Lliçà d'Amunt
METHOD:PUBLISH
X-WR-CALNAME:ajuntament@llicamunt.cat
X-WR-TIMEZONE:Europe/Madrid
DESCRIPTION:
URI:https://www.llicamunt.cat/actualitat/agenda/dracs-lectors-kit-de-lectura.html
CLASS:PUBLIC
END:VEVENT
END:VCALENDAR
