BEGIN:VCALENDAR
VERSION:2.0
CALSCALE:GREGORIAN
PRODID:-//Diputació de Barcelona//DibaCMS//EN
BEGIN:VEVENT
UID:13580
DTSTAMP:20260423T042042
DTSTART:20240420T110000
DTEND:20240420T123000
SUMMARY:Niu de paraules "Sant Jordi una llegenda"
LOCATION:c. de Castelló de la Plana, 11 08186   Lliçà d'Amunt
METHOD:PUBLISH
X-WR-CALNAME:ajuntament@llicamunt.cat
X-WR-TIMEZONE:Europe/Madrid
DESCRIPTION:
URI:https://www.llicamunt.cat/actualitat/agenda/niu-de-paraules-sant-jordi-una-llegenda.html
CLASS:PUBLIC
END:VEVENT
END:VCALENDAR
