BEGIN:VCALENDAR
VERSION:2.0
CALSCALE:GREGORIAN
PRODID:-//Diputació de Barcelona//DibaCMS//EN
BEGIN:VEVENT
UID:13585
DTSTAMP:20260423T070424
DTSTART:20240417T170000
DTEND:20240417T200000
SUMMARY:Campanya de donació de sang 
LOCATION:c. del Segre, 65 (Palaudàries) 08186   Lliçà d'Amunt
METHOD:PUBLISH
X-WR-CALNAME:ajuntament@llicamunt.cat
X-WR-TIMEZONE:Europe/Madrid
DESCRIPTION:
URI:https://www.llicamunt.cat/actualitat/agenda/13585-campanya-de-donacio-de-sang-.html
CLASS:PUBLIC
END:VEVENT
END:VCALENDAR
