BEGIN:VCALENDAR
VERSION:2.0
CALSCALE:GREGORIAN
PRODID:-//Diputació de Barcelona//DibaCMS//EN
BEGIN:VEVENT
UID:13593
DTSTAMP:20260423T113357
DTSTART:20240419T090000
DTEND:20240419T120000
SUMMARY:Taller gratuït sobre Autoprotecció
LOCATION:c. de Folch i Torres, 102 08186   Lliçà d'Amunt
METHOD:PUBLISH
X-WR-CALNAME:ajuntament@llicamunt.cat
X-WR-TIMEZONE:Europe/Madrid
DESCRIPTION:
URI:https://www.llicamunt.cat/actualitat/agenda/taller-gratuit-sobre-autoproteccio.html
CLASS:PUBLIC
END:VEVENT
END:VCALENDAR
