BEGIN:VCALENDAR
VERSION:2.0
CALSCALE:GREGORIAN
PRODID:-//Diputació de Barcelona//DibaCMS//EN
BEGIN:VEVENT
UID:13977
DTSTAMP:20260423T163727
DTSTART:20240425T173000
DTEND:20240425T190000
SUMMARY:Contes per a públic familiar "La cua del drac"
LOCATION:c. de Castelló de la Plana, 11 08186   Lliçà d'Amunt
METHOD:PUBLISH
X-WR-CALNAME:ajuntament@llicamunt.cat
X-WR-TIMEZONE:Europe/Madrid
DESCRIPTION:
URI:https://www.llicamunt.cat/actualitat/agenda/contes-per-a-public-familiar-la-cua-del-drac.html
CLASS:PUBLIC
END:VEVENT
END:VCALENDAR
