BEGIN:VCALENDAR
VERSION:2.0
CALSCALE:GREGORIAN
PRODID:-//Diputació de Barcelona//DibaCMS//EN
BEGIN:VEVENT
UID:13978
DTSTAMP:20260423T152704
DTSTART:20240426T190000
DTEND:20240426T200000
SUMMARY:Veredicte i entrega de premis del II Concurs Benvist
LOCATION:c. de Castelló de la Plana, 11 08186   Lliçà d'Amunt
METHOD:PUBLISH
X-WR-CALNAME:ajuntament@llicamunt.cat
X-WR-TIMEZONE:Europe/Madrid
DESCRIPTION:
URI:https://www.llicamunt.cat/actualitat/agenda/veredicte-i-entrega-de-premis-del-ii-concurs-benvist.html
CLASS:PUBLIC
END:VEVENT
END:VCALENDAR
