BEGIN:VCALENDAR
VERSION:2.0
CALSCALE:GREGORIAN
PRODID:-//Diputació de Barcelona//DibaCMS//EN
BEGIN:VEVENT
UID:13980
DTSTAMP:20260423T135133
DTSTART:20240427T110000
DTEND:20240427T123000
SUMMARY:Contes al vol "Sons de castells"
LOCATION:c. de Castelló de la Plana, 11 08186   Lliçà d'Amunt
METHOD:PUBLISH
X-WR-CALNAME:ajuntament@llicamunt.cat
X-WR-TIMEZONE:Europe/Madrid
DESCRIPTION:
URI:https://www.llicamunt.cat/actualitat/agenda/contes-al-vol-sons-de-castells.html
CLASS:PUBLIC
END:VEVENT
END:VCALENDAR
