BEGIN:VCALENDAR
VERSION:2.0
CALSCALE:GREGORIAN
PRODID:-//Diputació de Barcelona//DibaCMS//EN
BEGIN:VEVENT
UID:13981
DTSTAMP:20260423T191911
DTSTART:20240427T170000
DTEND:20240427T200000
SUMMARY:Gimcana d'orientació "Lliçà race"
LOCATION:c. de Castelló de la Plana, 11 08186   Lliçà d'Amunt
METHOD:PUBLISH
X-WR-CALNAME:ajuntament@llicamunt.cat
X-WR-TIMEZONE:Europe/Madrid
DESCRIPTION:
URI:https://www.llicamunt.cat/actualitat/agenda/gimcana-dorientacio-llica-race.html
CLASS:PUBLIC
END:VEVENT
END:VCALENDAR
