BEGIN:VCALENDAR
VERSION:2.0
CALSCALE:GREGORIAN
PRODID:-//Diputació de Barcelona//DibaCMS//EN
BEGIN:VEVENT
UID:13992
DTSTAMP:20260423T193445
DTSTART:20240805T000000
DTEND:20240811T000000
SUMMARY:Associació Gent Gran de Lliçà d'Amunt - Viatge Llacs nord Itàlia
LOCATION:
METHOD:PUBLISH
X-WR-CALNAME:ajuntament@llicamunt.cat
X-WR-TIMEZONE:Europe/Madrid
DESCRIPTION:
URI:https://www.llicamunt.cat/actualitat/agenda/associacio-gent-gran-de-llica-damunt-viatge-llacs-nord-italia.html
CLASS:PUBLIC
END:VEVENT
END:VCALENDAR
