BEGIN:VCALENDAR
VERSION:2.0
CALSCALE:GREGORIAN
PRODID:-//Diputació de Barcelona//DibaCMS//EN
BEGIN:VEVENT
UID:13993
DTSTAMP:20260423T084334
DTSTART:20240502T000000
DTEND:20240531T000000
SUMMARY:Exposició "Creativitat i colors"
LOCATION:c. de Castelló de la Plana, 11 08186   Lliçà d'Amunt
METHOD:PUBLISH
X-WR-CALNAME:ajuntament@llicamunt.cat
X-WR-TIMEZONE:Europe/Madrid
DESCRIPTION:
URI:https://www.llicamunt.cat/actualitat/agenda/exposicio-creativitat-i-colors.html
CLASS:PUBLIC
END:VEVENT
END:VCALENDAR
