BEGIN:VCALENDAR
VERSION:2.0
CALSCALE:GREGORIAN
PRODID:-//Diputació de Barcelona//DibaCMS//EN
BEGIN:VEVENT
UID:13995
DTSTAMP:20260423T100522
DTSTART:20240504T083000
DTEND:20240504T133000
SUMMARY:3a Caminada-cursa popular "Camins i senders de Lliçà d'Amunt. Caminar i córrer"
LOCATION:Pista poliesportiva de Palaudalba 
METHOD:PUBLISH
X-WR-CALNAME:ajuntament@llicamunt.cat
X-WR-TIMEZONE:Europe/Madrid
DESCRIPTION:
URI:https://www.llicamunt.cat/actualitat/agenda/13995-3a-caminada-cursa-popular-camins-i-senders-de-llica-damunt-caminar-i-correr.html
CLASS:PUBLIC
END:VEVENT
END:VCALENDAR
