BEGIN:VCALENDAR
VERSION:2.0
CALSCALE:GREGORIAN
PRODID:-//Diputació de Barcelona//DibaCMS//EN
BEGIN:VEVENT
UID:13996
DTSTAMP:20260423T122419
DTSTART:20240506T173000
DTEND:20240506T193000
SUMMARY:Taller de bisuteria creativa
LOCATION:C/Castelló de la Plana, 11 08186   Lliçà d'Amunt
METHOD:PUBLISH
X-WR-CALNAME:ajuntament@llicamunt.cat
X-WR-TIMEZONE:Europe/Madrid
DESCRIPTION:
URI:https://www.llicamunt.cat/actualitat/agenda/taller-de-bisuteria-creativa.html
CLASS:PUBLIC
END:VEVENT
END:VCALENDAR
