BEGIN:VCALENDAR
VERSION:2.0
CALSCALE:GREGORIAN
PRODID:-//Diputació de Barcelona//DibaCMS//EN
BEGIN:VEVENT
UID:14001
DTSTAMP:20260423T112109
DTSTART:20240511T090000
DTEND:20240511T120000
SUMMARY:Descobrim Lliçà d'Amunt "Sortida de primavera"
LOCATION:Parc del Tenes 
METHOD:PUBLISH
X-WR-CALNAME:ajuntament@llicamunt.cat
X-WR-TIMEZONE:Europe/Madrid
DESCRIPTION:
URI:https://www.llicamunt.cat/actualitat/agenda/descobrim-llica-damunt-sortida-de-primavera.html
CLASS:PUBLIC
END:VEVENT
END:VCALENDAR
