BEGIN:VCALENDAR
VERSION:2.0
CALSCALE:GREGORIAN
PRODID:-//Diputació de Barcelona//DibaCMS//EN
BEGIN:VEVENT
UID:14002
DTSTAMP:20260423T122404
DTSTART:20240512T090000
DTEND:20240512T200000
SUMMARY:Eleccions al Parlament de Catalunya
LOCATION:Col·legis electorals 
METHOD:PUBLISH
X-WR-CALNAME:ajuntament@llicamunt.cat
X-WR-TIMEZONE:Europe/Madrid
DESCRIPTION:
URI:https://www.llicamunt.cat/actualitat/agenda/14002-eleccions-al-parlament-de-catalunya.html
CLASS:PUBLIC
END:VEVENT
END:VCALENDAR
