BEGIN:VCALENDAR
VERSION:2.0
CALSCALE:GREGORIAN
PRODID:-//Diputació de Barcelona//DibaCMS//EN
BEGIN:VEVENT
UID:14003
DTSTAMP:20260423T100536
DTSTART:20240505T120000
DTEND:20240505T133000
SUMMARY:Presentació del disc "Somnis i sons" de sardines en llauna
LOCATION:
METHOD:PUBLISH
X-WR-CALNAME:ajuntament@llicamunt.cat
X-WR-TIMEZONE:Europe/Madrid
DESCRIPTION:
URI:https://www.llicamunt.cat/actualitat/agenda/presentacio-del-disc-somnis-i-sons-de-sardines-en-llauna.html
CLASS:PUBLIC
END:VEVENT
END:VCALENDAR
