BEGIN:VCALENDAR
VERSION:2.0
CALSCALE:GREGORIAN
PRODID:-//Diputació de Barcelona//DibaCMS//EN
BEGIN:VEVENT
UID:14021
DTSTAMP:20260423T124552
DTSTART:20240515T100000
DTEND:20240515T120000
SUMMARY:SEOVT - Formació "La figura de l'autònom"
LOCATION:Plaça de la Vila, s/n, 2a planta 08186 Lliçà de Vall
METHOD:PUBLISH
X-WR-CALNAME:ajuntament@llicamunt.cat
X-WR-TIMEZONE:Europe/Madrid
DESCRIPTION:
URI:https://www.llicamunt.cat/actualitat/agenda/seovt-formacio-la-figura-de-lautonom.html
CLASS:PUBLIC
END:VEVENT
END:VCALENDAR
