BEGIN:VCALENDAR
VERSION:2.0
CALSCALE:GREGORIAN
PRODID:-//Diputació de Barcelona//DibaCMS//EN
BEGIN:VEVENT
UID:14030
DTSTAMP:20260423T122251
DTSTART:20240517T120000
DTEND:20240517T133000
SUMMARY:Acte de celebració del 25à aniversari de TLA
LOCATION:c. de Castelló de la Plana, 11 08186   Lliçà d'Amunt
METHOD:PUBLISH
X-WR-CALNAME:ajuntament@llicamunt.cat
X-WR-TIMEZONE:Europe/Madrid
DESCRIPTION:
URI:https://www.llicamunt.cat/actualitat/agenda/acte-de-celebracio-del-25a-aniversari-de-tla.html
CLASS:PUBLIC
END:VEVENT
END:VCALENDAR
