BEGIN:VCALENDAR
VERSION:2.0
CALSCALE:GREGORIAN
PRODID:-//Diputació de Barcelona//DibaCMS//EN
BEGIN:VEVENT
UID:14031
DTSTAMP:20260423T124511
DTSTART:20240517T000000
DTEND:20241031T000000
SUMMARY:Exposició: 25è aniversari de TLA
LOCATION:c. de Castelló de la Plana, 11 08186   Lliçà d'Amunt
METHOD:PUBLISH
X-WR-CALNAME:ajuntament@llicamunt.cat
X-WR-TIMEZONE:Europe/Madrid
DESCRIPTION:
URI:https://www.llicamunt.cat/actualitat/agenda/exposicio-25e-aniversari-de-tla.html
CLASS:PUBLIC
END:VEVENT
END:VCALENDAR
