BEGIN:VCALENDAR
VERSION:2.0
CALSCALE:GREGORIAN
PRODID:-//Diputació de Barcelona//DibaCMS//EN
BEGIN:VEVENT
UID:14032
DTSTAMP:20260423T122515
DTSTART:20240518T120000
DTEND:20240518T133000
SUMMARY:L'Hora del vermut: La Remeis
LOCATION:c. de Castelló de la Plana, 11 08186   Lliçà d'Amunt
METHOD:PUBLISH
X-WR-CALNAME:ajuntament@llicamunt.cat
X-WR-TIMEZONE:Europe/Madrid
DESCRIPTION:
URI:https://www.llicamunt.cat/actualitat/agenda/lhora-del-vermut-la-remeis.html
CLASS:PUBLIC
END:VEVENT
END:VCALENDAR
