BEGIN:VCALENDAR
VERSION:2.0
CALSCALE:GREGORIAN
PRODID:-//Diputació de Barcelona//DibaCMS//EN
BEGIN:VEVENT
UID:14033
DTSTAMP:20260423T134102
DTSTART:20240520T170000
DTEND:20240520T200000
SUMMARY:Campanya de donació de sang  
LOCATION:c. de Castelló de la Plana, 11 08186   Lliçà d'Amunt
METHOD:PUBLISH
X-WR-CALNAME:ajuntament@llicamunt.cat
X-WR-TIMEZONE:Europe/Madrid
DESCRIPTION:
URI:https://www.llicamunt.cat/actualitat/agenda/14033-campanya-de-donacio-de-sang-.html
CLASS:PUBLIC
END:VEVENT
END:VCALENDAR
