BEGIN:VCALENDAR
VERSION:2.0
CALSCALE:GREGORIAN
PRODID:-//Diputació de Barcelona//DibaCMS//EN
BEGIN:VEVENT
UID:14034
DTSTAMP:20260423T134331
DTSTART:20240518T100000
DTEND:20240518T200000
SUMMARY:Nostálgicos del Mazinger Z 
LOCATION:c. de Palaudàries, 88 
METHOD:PUBLISH
X-WR-CALNAME:ajuntament@llicamunt.cat
X-WR-TIMEZONE:Europe/Madrid
DESCRIPTION:
URI:https://www.llicamunt.cat/actualitat/agenda/nostalgicos-del-mazinger-z-.html
CLASS:PUBLIC
END:VEVENT
END:VCALENDAR
