BEGIN:VCALENDAR
VERSION:2.0
CALSCALE:GREGORIAN
PRODID:-//Diputació de Barcelona//DibaCMS//EN
BEGIN:VEVENT
UID:14037
DTSTAMP:20260423T214753
DTSTART:20240603T000000
DTEND:20240611T235900
SUMMARY:Reunions informatives dels Casals d'estiu, esportiu i jove 2024
LOCATION:
METHOD:PUBLISH
X-WR-CALNAME:ajuntament@llicamunt.cat
X-WR-TIMEZONE:Europe/Madrid
DESCRIPTION:
URI:https://www.llicamunt.cat/actualitat/agenda/reunions-informatives-dels-casals-destiu-esportiu-i-jove-2024.html
CLASS:PUBLIC
END:VEVENT
END:VCALENDAR
