BEGIN:VCALENDAR
VERSION:2.0
CALSCALE:GREGORIAN
PRODID:-//Diputació de Barcelona//DibaCMS//EN
BEGIN:VEVENT
UID:14038
DTSTAMP:20260423T163021
DTSTART:20240602T100000
DTEND:20240602T140000
SUMMARY:Itinerarius "Entre l'aigua i el glaç"
LOCATION:Sortida des de la Masia de Can Coll de Lliçà de Vall  
METHOD:PUBLISH
X-WR-CALNAME:ajuntament@llicamunt.cat
X-WR-TIMEZONE:Europe/Madrid
DESCRIPTION:
URI:https://www.llicamunt.cat/actualitat/agenda/itinerarius-entre-laigua-i-el-glac.html
CLASS:PUBLIC
END:VEVENT
END:VCALENDAR
