BEGIN:VCALENDAR
VERSION:2.0
CALSCALE:GREGORIAN
PRODID:-//Diputació de Barcelona//DibaCMS//EN
BEGIN:VEVENT
UID:14043
DTSTAMP:20260424T011713
DTSTART:20240603T170000
DTEND:20240603T190000
SUMMARY:Xerrada educativa "Educació i comunicació"
LOCATION:En línia 
METHOD:PUBLISH
X-WR-CALNAME:ajuntament@llicamunt.cat
X-WR-TIMEZONE:Europe/Madrid
DESCRIPTION:
URI:https://www.llicamunt.cat/actualitat/agenda/xerrada-educativa-educacio-i-comunicacio.html
CLASS:PUBLIC
END:VEVENT
END:VCALENDAR
