BEGIN:VCALENDAR
VERSION:2.0
CALSCALE:GREGORIAN
PRODID:-//Diputació de Barcelona//DibaCMS//EN
BEGIN:VEVENT
UID:14047
DTSTAMP:20260423T134811
DTSTART:20240609T090000
DTEND:20240609T200000
SUMMARY:Eleccions al Parlament Europeu
LOCATION:Col·legis electorals 
METHOD:PUBLISH
X-WR-CALNAME:ajuntament@llicamunt.cat
X-WR-TIMEZONE:Europe/Madrid
DESCRIPTION:
URI:https://www.llicamunt.cat/actualitat/agenda/eleccions-al-parlament-europeu.html
CLASS:PUBLIC
END:VEVENT
END:VCALENDAR
