BEGIN:VCALENDAR
VERSION:2.0
CALSCALE:GREGORIAN
PRODID:-//Diputació de Barcelona//DibaCMS//EN
BEGIN:VEVENT
UID:14055
DTSTAMP:20260424T024845
DTSTART:20240623T090000
DTEND:20240623T130000
SUMMARY:"Butirock"
LOCATION:Parc de la mandarina 
METHOD:PUBLISH
X-WR-CALNAME:ajuntament@llicamunt.cat
X-WR-TIMEZONE:Europe/Madrid
DESCRIPTION:
URI:https://www.llicamunt.cat/actualitat/agenda/butirock.html
CLASS:PUBLIC
END:VEVENT
END:VCALENDAR
