BEGIN:VCALENDAR
VERSION:2.0
CALSCALE:GREGORIAN
PRODID:-//Diputació de Barcelona//DibaCMS//EN
BEGIN:VEVENT
UID:14056
DTSTAMP:20260424T024809
DTSTART:20240606T090000
DTEND:20240606T183000
SUMMARY:Jornada de selecció de mosso/a de magatzem pel centre logístic de Mango a Lliçà d'Amunt
LOCATION:Hotel HC Mollet (Carrer de Can Flequer, 30, Mollet del Vallès) 
METHOD:PUBLISH
X-WR-CALNAME:ajuntament@llicamunt.cat
X-WR-TIMEZONE:Europe/Madrid
DESCRIPTION:
URI:https://www.llicamunt.cat/actualitat/agenda/jornada-de-seleccio-de-mossoa-de-magatzem-pel-centre-logistic-de-mango-a-llica-damunt.html
CLASS:PUBLIC
END:VEVENT
END:VCALENDAR
