BEGIN:VCALENDAR
VERSION:2.0
CALSCALE:GREGORIAN
PRODID:-//Diputació de Barcelona//DibaCMS//EN
BEGIN:VEVENT
UID:14057
DTSTAMP:20260423T180142
DTSTART:20240616T083000
DTEND:20240616T140000
SUMMARY:Copa Catalana de BMX
LOCATION:Circuit del club Tennis Ca l'Artigues 
METHOD:PUBLISH
X-WR-CALNAME:ajuntament@llicamunt.cat
X-WR-TIMEZONE:Europe/Madrid
DESCRIPTION:
URI:https://www.llicamunt.cat/actualitat/agenda/14057-copa-catalana-de-bmx.html
CLASS:PUBLIC
END:VEVENT
END:VCALENDAR
