BEGIN:VCALENDAR
VERSION:2.0
CALSCALE:GREGORIAN
PRODID:-//Diputació de Barcelona//DibaCMS//EN
BEGIN:VEVENT
UID:14062
DTSTAMP:20260423T122327
DTSTART:20240607T200000
DTEND:20240607T220000
SUMMARY:Concert homenatge a Pere Enguix
LOCATION:Carrer de Folch i Torres, 117  08186   Lliçà d'Amunt
METHOD:PUBLISH
X-WR-CALNAME:ajuntament@llicamunt.cat
X-WR-TIMEZONE:Europe/Madrid
DESCRIPTION:
URI:https://www.llicamunt.cat/actualitat/agenda/concert-homenatge-a-pere-enguix.html
CLASS:PUBLIC
END:VEVENT
END:VCALENDAR
