BEGIN:VCALENDAR
VERSION:2.0
CALSCALE:GREGORIAN
PRODID:-//Diputació de Barcelona//DibaCMS//EN
BEGIN:VEVENT
UID:14064
DTSTAMP:20260423T134903
DTSTART:20240607T093000
DTEND:20240607T110000
SUMMARY:Taller d'alimentació per a un envelliment saludable
LOCATION:c. de Folch i Torres, 102 08186   Lliçà d'Amunt
METHOD:PUBLISH
X-WR-CALNAME:ajuntament@llicamunt.cat
X-WR-TIMEZONE:Europe/Madrid
DESCRIPTION:
URI:https://www.llicamunt.cat/actualitat/agenda/taller-dalimentacio-per-a-un-envelliment-saludable.html
CLASS:PUBLIC
END:VEVENT
END:VCALENDAR
