BEGIN:VCALENDAR
VERSION:2.0
CALSCALE:GREGORIAN
PRODID:-//Diputació de Barcelona//DibaCMS//EN
BEGIN:VEVENT
UID:14065
DTSTAMP:20260423T204135
DTSTART:20240607T000000
DTEND:20240614T000000
SUMMARY:Festivals de cloenda de la temporada 23-24 de les activitats dels Centres Cívics
LOCATION:Carrer de la Ribera d'Ebre, 81, planta baja 08186   Lliçà d'Amunt
METHOD:PUBLISH
X-WR-CALNAME:ajuntament@llicamunt.cat
X-WR-TIMEZONE:Europe/Madrid
DESCRIPTION:
URI:https://www.llicamunt.cat/actualitat/agenda/festivals-de-cloenda-de-la-temporada-23-24-de-les-activitats-dels-centres-civics.html
CLASS:PUBLIC
END:VEVENT
END:VCALENDAR
