BEGIN:VCALENDAR
VERSION:2.0
CALSCALE:GREGORIAN
PRODID:-//Diputació de Barcelona//DibaCMS//EN
BEGIN:VEVENT
UID:14067
DTSTAMP:20260423T134552
DTSTART:20240607T173000
DTEND:20240607T193000
SUMMARY:Torneig de FIFA 2024
LOCATION:C/Castelló de la Plana, 11 08186   Lliçà d'Amunt
METHOD:PUBLISH
X-WR-CALNAME:ajuntament@llicamunt.cat
X-WR-TIMEZONE:Europe/Madrid
DESCRIPTION:
URI:https://www.llicamunt.cat/actualitat/agenda/torneig-de-fifa-2024.html
CLASS:PUBLIC
END:VEVENT
END:VCALENDAR
