BEGIN:VCALENDAR
VERSION:2.0
CALSCALE:GREGORIAN
PRODID:-//Diputació de Barcelona//DibaCMS//EN
BEGIN:VEVENT
UID:14069
DTSTAMP:20260423T123904
DTSTART:20240611T173000
DTEND:20240611T200000
SUMMARY:Taller creatiu: Fem un mòbil d'estiu
LOCATION:c. de Castelló de la Plana, 11 08186   Lliçà d'Amunt
METHOD:PUBLISH
X-WR-CALNAME:ajuntament@llicamunt.cat
X-WR-TIMEZONE:Europe/Madrid
DESCRIPTION:
URI:https://www.llicamunt.cat/actualitat/agenda/taller-creatiu-fem-un-mobil-destiu.html
CLASS:PUBLIC
END:VEVENT
END:VCALENDAR
