BEGIN:VCALENDAR
VERSION:2.0
CALSCALE:GREGORIAN
PRODID:-//Diputació de Barcelona//DibaCMS//EN
BEGIN:VEVENT
UID:14070
DTSTAMP:20260423T134719
DTSTART:20240612T173000
DTEND:20240612T193000
SUMMARY:Tarda de malabars
LOCATION:C/Castelló de la Plana, 11 08186   Lliçà d'Amunt
METHOD:PUBLISH
X-WR-CALNAME:ajuntament@llicamunt.cat
X-WR-TIMEZONE:Europe/Madrid
DESCRIPTION:
URI:https://www.llicamunt.cat/actualitat/agenda/14070-tarda-de-malabars.html
CLASS:PUBLIC
END:VEVENT
END:VCALENDAR
