BEGIN:VCALENDAR
VERSION:2.0
CALSCALE:GREGORIAN
PRODID:-//Diputació de Barcelona//DibaCMS//EN
BEGIN:VEVENT
UID:14071
DTSTAMP:20260423T180406
DTSTART:20240612T180000
DTEND:20240612T200000
SUMMARY:Club de lectura d'adults
LOCATION:c. de Castelló de la Plana, 11 08186   Lliçà d'Amunt
METHOD:PUBLISH
X-WR-CALNAME:ajuntament@llicamunt.cat
X-WR-TIMEZONE:Europe/Madrid
DESCRIPTION:
URI:https://www.llicamunt.cat/actualitat/agenda/14071-club-de-lectura-dadults.html
CLASS:PUBLIC
END:VEVENT
END:VCALENDAR
