BEGIN:VCALENDAR
VERSION:2.0
CALSCALE:GREGORIAN
PRODID:-//Diputació de Barcelona//DibaCMS//EN
BEGIN:VEVENT
UID:14073
DTSTAMP:20260424T024307
DTSTART:20240614T190000
DTEND:20240614T210000
SUMMARY:Xerrada "El Tenes, la conca del Besòs, aigua i sequera"
LOCATION:c. de Folch i Torres, 102 08186   Lliçà d'Amunt
METHOD:PUBLISH
X-WR-CALNAME:ajuntament@llicamunt.cat
X-WR-TIMEZONE:Europe/Madrid
DESCRIPTION:
URI:https://www.llicamunt.cat/actualitat/agenda/xerrada-el-tenes-la-conca-del-besos-aigua-i-sequera.html
CLASS:PUBLIC
END:VEVENT
END:VCALENDAR
