BEGIN:VCALENDAR
VERSION:2.0
CALSCALE:GREGORIAN
PRODID:-//Diputació de Barcelona//DibaCMS//EN
BEGIN:VEVENT
UID:14074
DTSTAMP:20260423T151436
DTSTART:20240615T110000
DTEND:20240615T130000
SUMMARY:Contes al vol "Mon món de contes"
LOCATION:c. de Castelló de la Plana, 11 08186   Lliçà d'Amunt
METHOD:PUBLISH
X-WR-CALNAME:ajuntament@llicamunt.cat
X-WR-TIMEZONE:Europe/Madrid
DESCRIPTION:
URI:https://www.llicamunt.cat/actualitat/agenda/contes-al-vol-mon-mon-de-contes.html
CLASS:PUBLIC
END:VEVENT
END:VCALENDAR
