BEGIN:VCALENDAR
VERSION:2.0
CALSCALE:GREGORIAN
PRODID:-//Diputació de Barcelona//DibaCMS//EN
BEGIN:VEVENT
UID:14106
DTSTAMP:20260423T151359
DTSTART:20240626T093000
DTEND:20240626T123000
SUMMARY:SEOVT - Speed dating talent jove!
LOCATION:Centre cívic La fàbrica de Santa Eulàlia de Ronçana 
METHOD:PUBLISH
X-WR-CALNAME:ajuntament@llicamunt.cat
X-WR-TIMEZONE:Europe/Madrid
DESCRIPTION:
URI:https://www.llicamunt.cat/actualitat/agenda/seovt-speed-dating-talent-jove.html
CLASS:PUBLIC
END:VEVENT
END:VCALENDAR
