BEGIN:VCALENDAR
VERSION:2.0
CALSCALE:GREGORIAN
PRODID:-//Diputació de Barcelona//DibaCMS//EN
BEGIN:VEVENT
UID:14108
DTSTAMP:20260423T204206
DTSTART:20240620T220000
DTEND:20240704T235900
SUMMARY:Diapositives a la fresca 2024
LOCATION:Pati de davant de la seu de l'entitat (c. de Barcelona, 25)
 
METHOD:PUBLISH
X-WR-CALNAME:ajuntament@llicamunt.cat
X-WR-TIMEZONE:Europe/Madrid
DESCRIPTION:
URI:https://www.llicamunt.cat/actualitat/agenda/diapositives-a-la-fresca-2024.html
CLASS:PUBLIC
END:VEVENT
END:VCALENDAR
