BEGIN:VCALENDAR
VERSION:2.0
CALSCALE:GREGORIAN
PRODID:-//Diputació de Barcelona//DibaCMS//EN
BEGIN:VEVENT
UID:14109
DTSTAMP:20260423T135055
DTSTART:20240628T100000
DTEND:20240628T123000
SUMMARY:Formació SEOVT - De la idea al negoci
LOCATION:En línia 
METHOD:PUBLISH
X-WR-CALNAME:ajuntament@llicamunt.cat
X-WR-TIMEZONE:Europe/Madrid
DESCRIPTION:
URI:https://www.llicamunt.cat/actualitat/agenda/formacio-seovt-de-la-idea-al-negoci.html
CLASS:PUBLIC
END:VEVENT
END:VCALENDAR
