BEGIN:VCALENDAR
VERSION:2.0
CALSCALE:GREGORIAN
PRODID:-//Diputació de Barcelona//DibaCMS//EN
BEGIN:VEVENT
UID:14110
DTSTAMP:20260423T225518
DTSTART:20240621T173000
DTEND:20240621T193000
SUMMARY:Totte bag personalitzada
LOCATION:C/Castelló de la Plana, 11 08186   Lliçà d'Amunt
METHOD:PUBLISH
X-WR-CALNAME:ajuntament@llicamunt.cat
X-WR-TIMEZONE:Europe/Madrid
DESCRIPTION:
URI:https://www.llicamunt.cat/actualitat/agenda/totte-bag-personalitzada.html
CLASS:PUBLIC
END:VEVENT
END:VCALENDAR
