BEGIN:VCALENDAR
VERSION:2.0
CALSCALE:GREGORIAN
PRODID:-//Diputació de Barcelona//DibaCMS//EN
BEGIN:VEVENT
UID:14112
DTSTAMP:20260423T204053
DTSTART:20240625T170000
DTEND:20240625T190000
SUMMARY:Conte "Orgull de ser com som"
LOCATION:c. de Castelló de la Plana, 11 08186   Lliçà d'Amunt
METHOD:PUBLISH
X-WR-CALNAME:ajuntament@llicamunt.cat
X-WR-TIMEZONE:Europe/Madrid
DESCRIPTION:
URI:https://www.llicamunt.cat/actualitat/agenda/conte-orgull-de-ser-com-som.html
CLASS:PUBLIC
END:VEVENT
END:VCALENDAR
