BEGIN:VCALENDAR
VERSION:2.0
CALSCALE:GREGORIAN
PRODID:-//Diputació de Barcelona//DibaCMS//EN
BEGIN:VEVENT
UID:14115
DTSTAMP:20260423T151247
DTSTART:20240628T193000
DTEND:20240629T010000
SUMMARY:Festa del Pintxo 2024
LOCATION:Plaça de Catalunya 
METHOD:PUBLISH
X-WR-CALNAME:ajuntament@llicamunt.cat
X-WR-TIMEZONE:Europe/Madrid
DESCRIPTION:
URI:https://www.llicamunt.cat/actualitat/agenda/festa-del-pintxo-2024.html
CLASS:PUBLIC
END:VEVENT
END:VCALENDAR
