BEGIN:VCALENDAR
VERSION:2.0
CALSCALE:GREGORIAN
PRODID:-//Diputació de Barcelona//DibaCMS//EN
BEGIN:VEVENT
UID:14116
DTSTAMP:20260423T153743
DTSTART:20240628T170000
DTEND:20240628T200000
SUMMARY:Celebració del Dia Internacional de l'Orgull LGTBIQ+
LOCATION:Plaça de Catalunya 
METHOD:PUBLISH
X-WR-CALNAME:ajuntament@llicamunt.cat
X-WR-TIMEZONE:Europe/Madrid
DESCRIPTION:
URI:https://www.llicamunt.cat/actualitat/agenda/celebracio-del-dia-internacional-de-lorgull-lgtbiq.html
CLASS:PUBLIC
END:VEVENT
END:VCALENDAR
