BEGIN:VCALENDAR
VERSION:2.0
CALSCALE:GREGORIAN
PRODID:-//Diputació de Barcelona//DibaCMS//EN
BEGIN:VEVENT
UID:14118
DTSTAMP:20260423T163811
DTSTART:20240706T000000
DTEND:20240721T235900
SUMMARY:Festes de barri 2024
LOCATION:
METHOD:PUBLISH
X-WR-CALNAME:ajuntament@llicamunt.cat
X-WR-TIMEZONE:Europe/Madrid
DESCRIPTION:
URI:https://www.llicamunt.cat/actualitat/agenda/14118-festes-de-barri-2024.html
CLASS:PUBLIC
END:VEVENT
END:VCALENDAR
