BEGIN:VCALENDAR
VERSION:2.0
CALSCALE:GREGORIAN
PRODID:-//Diputació de Barcelona//DibaCMS//EN
BEGIN:VEVENT
UID:14123
DTSTAMP:20260423T163521
DTSTART:20240627T173000
DTEND:20240627T193000
SUMMARY:Taller de polseres de fil
LOCATION:C/Castelló de la Plana, 11 08186   Lliçà d'Amunt
METHOD:PUBLISH
X-WR-CALNAME:ajuntament@llicamunt.cat
X-WR-TIMEZONE:Europe/Madrid
DESCRIPTION:
URI:https://www.llicamunt.cat/actualitat/agenda/14123-taller-de-polseres-de-fil.html
CLASS:PUBLIC
END:VEVENT
END:VCALENDAR
