BEGIN:VCALENDAR
VERSION:2.0
CALSCALE:GREGORIAN
PRODID:-//Diputació de Barcelona//DibaCMS//EN
BEGIN:VEVENT
UID:14129
DTSTAMP:20260423T151319
DTSTART:20240705T120000
DTEND:20240705T130000
SUMMARY:Xerrada sobre com prevenir cops de calor
LOCATION:c. de Folch i Torres, 102 08186   Lliçà d'Amunt
METHOD:PUBLISH
X-WR-CALNAME:ajuntament@llicamunt.cat
X-WR-TIMEZONE:Europe/Madrid
DESCRIPTION:
URI:https://www.llicamunt.cat/actualitat/agenda/xerrada-sobre-com-prevenir-cops-de-calor.html
CLASS:PUBLIC
END:VEVENT
END:VCALENDAR
