BEGIN:VCALENDAR
VERSION:2.0
CALSCALE:GREGORIAN
PRODID:-//Diputació de Barcelona//DibaCMS//EN
BEGIN:VEVENT
UID:14132
DTSTAMP:20260423T175448
DTSTART:20240708T173000
DTEND:20240708T193000
SUMMARY:Taller de collarets d'estiu
LOCATION:C/Castelló de la Plana, 11 08186   Lliçà d'Amunt
METHOD:PUBLISH
X-WR-CALNAME:ajuntament@llicamunt.cat
X-WR-TIMEZONE:Europe/Madrid
DESCRIPTION:
URI:https://www.llicamunt.cat/actualitat/agenda/taller-de-collarets-destiu.html
CLASS:PUBLIC
END:VEVENT
END:VCALENDAR
