BEGIN:VCALENDAR
VERSION:2.0
CALSCALE:GREGORIAN
PRODID:-//Diputació de Barcelona//DibaCMS//EN
BEGIN:VEVENT
UID:14134
DTSTAMP:20260424T000834
DTSTART:20240713T000000
DTEND:20240713T000000
SUMMARY:Room Escape "El guió de Can Malé" 
LOCATION:
METHOD:PUBLISH
X-WR-CALNAME:ajuntament@llicamunt.cat
X-WR-TIMEZONE:Europe/Madrid
DESCRIPTION:
URI:https://www.llicamunt.cat/actualitat/agenda/room-escape-el-guio-de-can-male-.html
CLASS:PUBLIC
END:VEVENT
END:VCALENDAR
