BEGIN:VCALENDAR
VERSION:2.0
CALSCALE:GREGORIAN
PRODID:-//Diputació de Barcelona//DibaCMS//EN
BEGIN:VEVENT
UID:14136
DTSTAMP:20260423T220302
DTSTART:20240714T183000
DTEND:20240714T203000
SUMMARY:Aplec de Santa Justa
LOCATION:Aquesta ermita s’alça a l’esquerra de la riera de Tenes, a l’extrem nord del terme i prop de la carretera de Caldes a Granollers. 
METHOD:PUBLISH
X-WR-CALNAME:ajuntament@llicamunt.cat
X-WR-TIMEZONE:Europe/Madrid
DESCRIPTION:
URI:https://www.llicamunt.cat/actualitat/agenda/14136-aplec-de-santa-justa.html
CLASS:PUBLIC
END:VEVENT
END:VCALENDAR
